BEGIN:VCALENDAR
VERSION:2.0
PRODID:-//GKB - Gesellschaft für konservierende Bodenbearbeitung - ECPv6.15.20//NONSGML v1.0//EN
CALSCALE:GREGORIAN
METHOD:PUBLISH
X-WR-CALNAME:GKB - Gesellschaft für konservierende Bodenbearbeitung
X-ORIGINAL-URL:https://www.gkb-ev.de
X-WR-CALDESC:Veranstaltungen für GKB - Gesellschaft für konservierende Bodenbearbeitung
REFRESH-INTERVAL;VALUE=DURATION:PT1H
X-Robots-Tag:noindex
X-PUBLISHED-TTL:PT1H
BEGIN:VTIMEZONE
TZID:Europe/Berlin
BEGIN:DAYLIGHT
TZOFFSETFROM:+0100
TZOFFSETTO:+0200
TZNAME:CEST
DTSTART:20250330T010000
END:DAYLIGHT
BEGIN:STANDARD
TZOFFSETFROM:+0200
TZOFFSETTO:+0100
TZNAME:CET
DTSTART:20251026T010000
END:STANDARD
BEGIN:DAYLIGHT
TZOFFSETFROM:+0100
TZOFFSETTO:+0200
TZNAME:CEST
DTSTART:20260329T010000
END:DAYLIGHT
BEGIN:STANDARD
TZOFFSETFROM:+0200
TZOFFSETTO:+0100
TZNAME:CET
DTSTART:20261025T010000
END:STANDARD
BEGIN:DAYLIGHT
TZOFFSETFROM:+0100
TZOFFSETTO:+0200
TZNAME:CEST
DTSTART:20270328T010000
END:DAYLIGHT
BEGIN:STANDARD
TZOFFSETFROM:+0200
TZOFFSETTO:+0100
TZNAME:CET
DTSTART:20271031T010000
END:STANDARD
END:VTIMEZONE
BEGIN:VEVENT
DTSTART;TZID=Europe/Berlin:20260210T090000
DTEND;TZID=Europe/Berlin:20260210T160000
DTSTAMP:20260422T163129
CREATED:20251222T150404Z
LAST-MODIFIED:20251222T150404Z
UID:12899-1770714000-1770739200@www.gkb-ev.de
SUMMARY:10.02.2026 - Fachtagung der GKB e.V. und des Arbeitskreis Südbayern
DESCRIPTION:Die GKB e.V. und der Arbeitskreis Südbayern lädt am 10. Februar 2026 zu einer Fachtagung in den Landgasthof Vogelsang in Weichering zum Thema \nAckerbau in Direktsaat weichering\nein. In 2025 wurden in Südbayern 4 Feldtage auf Direktsaatbetrieben durchgeführt. Die Betriebsleiter berichten über ihre Erfahrungen und beantworten Fragen. Ebenso werden Besonderheiten im Bereich der Pflanzenernährung und des Pflanzenschutz in Zusammenhang mit der Direktsaat erläutert. Mit Dr. Wolfgang G. Sturny haben wir einen erfahrenen Experten der Direktsaat gewinnen können. Die Veranstaltung beginnt um 09.00 Uhr und wird von Herrn Max Stadler und Herrn Tim Meier geleitet. Folgende Vorträge werden zu hören sein: \n\nDr. Wolfgang G. Sturny\, Emeritierter Leiter der Fachstelle Bodenschutz des Kantons Bern – Auf dem Weg zu einer bodenschonenden und klimaresilienten Landwirtschaft der Zukunft – mit Bezug auf die Schweiz – Direktsaat-Erfahrungen von SWISS NO-TILL und Oberacker-Langzeitergebnisse\nAndreas Bergmeister\, Landwirt aus Gaimersheim – Direktsaat im Milchvieh- und Biogasbetrieb\nHanns Biedenbach\, Landwirt aus Leipheim – Direktsaat im Ackerbaubetrieb\nTom Laubenbacher\, Landwirt aus Reisbach – Direktsaat im Biogasbetrieb\nUlli Zink\, Landwirt aus sachsen\, Kinsey Bodenuntersuchung – Gezielte Pflanzenernährung und Einsparmöglichkeiten beim chem. Pflanzenschutz in der Direktsaat\n\nWeitere Einzelheiten entnehmen Sie bitte dem beigefügten Programm. \n Programm\n\nTermin und Ort\nDienstag\, 10.02.2026 um 09.00 Uhr im Landgasthof Vogelsang\, Bahnhofstr. 24 in 86706 Weichering \nWeitere Informationen sind bei Max Stadler und Tim Meier erhältlich. \n\nTelefon 0179 45 62 450 (Max Stadler) oder per E-Mail: gkb.sued@gmail.com\n\nEinen Überblick über die weiteren Veranstaltungen im Jahr 2025 finden Sie hier \nVeranstaltungenVeranstaltungen im Jahr 2025 \nVeranstaltungen\n\nBei Interesse an einer Mitgliedschaft in der Gesellschaft für konservierende Bodenbearbeitung (GKB) e.V. klicken Sie auf das nachfolgende Banner \nInteresseBeantragen Sie noch heute die Aufnahme in die GKB \nMitgliedschaft
URL:https://www.gkb-ev.de/event/10-02-2026-fachtagung-der-gkb-e-v-und-des-arbeitskreis-suedbayern/
END:VEVENT
BEGIN:VEVENT
DTSTART;VALUE=DATE:20260212
DTEND;VALUE=DATE:20260213
DTSTAMP:20260422T163129
CREATED:20260105T133404Z
LAST-MODIFIED:20260105T133404Z
UID:12912-1770854400-1770940799@www.gkb-ev.de
SUMMARY:12.02.2026 - 17. Fachtagung Ackerbau Main-Kinzig in Gründau
DESCRIPTION:Am 12.02.2026 findet im Hotel Hühnerhof in Gründau eine vom Landesbetrieb Landwirtschaft Hessen organisierte Fachtagung statt. \n17. Fachtagung Ackerbau Main-Kinziggründau\nDie Fachtagung ist anerkannt als Sachkunde-Fortbildung bei ganztägiger Teilnahme\, Barzahlung der Fortbildungsgebühr und einer Voranmeldung. Es sind folgende Vorträge geplant: \n\nHannah Adam-Schilling\, Verband der hess.-pfälz. Zuckerrübenanbauer und Dr. Dominik Dicke\, Pflanzenschutzdienst Hessen\, „Schilfglasflügelzikade in Hessen: Ausbreitung\, Stand der Forschung und Strategie der Eindämmung in 2026“\nDaniel Rüde\, Berater Pflanzenbau LLH\, „Rollhacke und Striegel im Praxiseinsatz?“\nRalf Nagel\, Berater Pflanzenbau LLH\, „Saatgutbeizung − Status quo und zukünftige Perspektiven“\nAndreas Hommertgen\, Pflanzenschutz DLR „Ackerfuchsschwanzbekämpfung in Getreide ohne Flufenacet – ein schmaler Grat zwischen Wirkung und Phytotox“\nManfred Kirchner\, Berater Pflanzenschutz i.R.\, Harleshausen und Jonas Schulze und Stephan Brand\, Berater Pflanzenbau\, LLH „30 Jahre Systemvergleich: Pflug-\, Mulch- und Direktsaat – Ein Gespräch mit Manfred Kirchner“\n\n\nTermin und Ort\nDonnerstag\, 12.02.2026 um 09.30 Uhr im Gut Hühnerhof\, Gettenbacher Straße 1 63584 Gründau-Gettenbach \nDie Veranstaltung erfolgt in Kooperation mit \n\nMain-Kinzig-Kreis\, Amt für Umwelt\, Naturschutz und ländlichen Raum\nKreisbauernverband Main-Kinzig\nRaiffeisen Waren GmbH − Agrarstandort Gelnhausen\nLandtechnische Fördergemeinschaft Gelnhausen\nBodenverband Main-Kinzig\n\nDie Teilnahme an der Fachtagung ist kostenlos. Für den Erhalt einer Fortbildungsbescheinigung laut Pflanzenschutzsachkunde-Verordnung müssen Sie sich bis zum 10. Februar 2026 verbindlich unter diesem Link anmelden. \n Zum Programm\n\nEinen Überblick über die Veranstaltungen im Jahr 2025 finden Sie hier\nVeranstaltungenVeranstaltungen im Jahr 2025 \nVeranstaltungen\n\nBei Interesse an einer Mitgliedschaft in der Gesellschaft für konservierende Bodenbearbeitung (GKB) e.V. klicken Sie auf das nachfolgende Banner\nInteresseBeantragen Sie noch heute die Aufnahme in die GKB \nMitgliedschaft
URL:https://www.gkb-ev.de/event/12-02-2026-17-fachtagung-ackerbau-main-kinzig-in-gruendau/
END:VEVENT
BEGIN:VEVENT
DTSTART;TZID=Europe/Berlin:20260224T090000
DTEND;TZID=Europe/Berlin:20260224T160000
DTSTAMP:20260422T163129
CREATED:20260126T152757Z
LAST-MODIFIED:20260126T152757Z
UID:12936-1771923600-1771948800@www.gkb-ev.de
SUMMARY:24.02.2026 - Veranstaltung in Bretten - Büchig
DESCRIPTION:Am 24.02.2026 lädt das Landwirtschaftsamt des Landratsamt Karlsruhe und die GKB e.V. wie bereits im letzten Jahr zu einer Veranstaltung nach Bretten – Büching ein. Das Thema der Veranstaltung lautet \nNachhaltige Landbewirtschaftung\nIn der Zeit von 09.15 Uhr bis 16.00 Uhr werden im Clubhaus Büchig\, Kickersweg 1 in 75015 Bretten-Büchig folgende Vorträge zu hören sein: \n\nRolf Kern und Christian Erbe\, Landwirtschaftsamt Bruchsal – Begrüßung und Einführung in das Thema\nSusanne Reichert\, Fachberaterin für Pflanzenernährung und Praktikerin aus Römmelsdorf\, Unterfranken – Können wir die Rentabilität im Ackerbau durch Direktsaat verbessern\nEgid Hennig\, Praktiker aus Richelbach\, Unterfranken – Direktsaat – Erfahrungen aus dem Betrieb Henning\nChristina Haessler\, Regierungspräsidium Karlsruhe\, Rolf Kern und Christian Erbe\, Landwirtschaftsamt Bruchsal – Warum Biodiversität für eine nachhaltige Landbewirtschaftung wichtig ist\nJürgen Schell\, Praktiker aus Reilingen\, Rhein-Neckarkreis – Biodiversität in der praktischen Umsetzung\n\n\nZeit und Ort der Veranstaltung in Bretten – Büchig\nDienstag\, den 24. Februar 2026 von 09.15 Uhr bis 16.00 Uhr im Clubhaus Büchig\, Kickersweg 1 in 75015 Bretten – Büchig \n\nAnmeldung und Informationen\nEs wird um eine Anmeldung bis zum 23.02.2026 gebeten\, da die Teilnehmerzahl begrenzt ist. \nAnmeldungen unter Tel.: 0721/936-88630 oder per E-Mail: landwirtschaftsamt@landratsamt-karlsruhe.de \nFür Kaffee\, Getränke und Essen wird eine Tagespauschale in Höhe von 25\,- EUR verlangt. Weitere Infos zu der Veranstaltung erteilt Ihnen Rolf Kern\, Landratsamt Karlsruhe – Landwirtschaftsamt – Tel.: 0721/936-88290\, E-Mail: rolf.kern@landratsamt-karlsruhe.de \n Zum Programm\n\nEinen Überblick über Veranstaltungen im Jahr 2025 finden Sie hier \nVeranstaltungenVeranstaltungen im Jahr 2025 \nVeranstaltungen\n\nBei Interesse an einer Mitgliedschaft in der Gesellschaft für konservierende Bodenbearbeitung (GKB) e.V. klicken Sie auf das nachfolgende Banner \nInteresseBeantragen Sie noch heute die Aufnahme in die GKB \nMitgliedschaft
URL:https://www.gkb-ev.de/event/24-02-2026-veranstaltung-in-bretten-buechig/
END:VEVENT
BEGIN:VEVENT
DTSTART;VALUE=DATE:20260226
DTEND;VALUE=DATE:20260227
DTSTAMP:20260422T163129
CREATED:20251216T132712Z
LAST-MODIFIED:20251219T110320Z
UID:12869-1772064000-1772150399@www.gkb-ev.de
SUMMARY:26.02.2026 - Jahrestagung und Mitgliederversammlung 2026
DESCRIPTION:Die Mitgliederversammlung 2026 der GKB e.V. und die traditionelle Vortragsveranstaltung ist für Donnerstag\, 26. Februar 2026 am Johann Heinrich von Thünen-Institut\, Bundesforschungsinstitut für Ländliche Räume\, Wald und Fischerei\, Bundesallee 50\, 38116 Braunschweig geplant. Das Thema der Veranstaltung lautet: \nZukunft Boden: Mikrobielles Management\, digitale Bodenkarte und Regenerationsstrategien Mitgliederversammlung 2026\nUnter der Moderation von Frau Dr. Jana Epperlein (GKB e.V.) und Herrn Felix Wierling\, Landwirt (Vorstand GKB e.V.) werden auf unserer Veranstaltung folgende Referenten zu hören sein: \n\nProf. Dr. Kathrin Deiglmyr\, Hochschule Osnabrück; Fakultät Agrarwissenschaften und Landschaftsarchitektur\, Bodenkunde – „Management des Bodenmikrobioms – Lassen sich Bodenbakterien und -pilze durch die Bewirtschaftung beeinflussen?“\nChristian Wiesmann\, Hochschule Osnabrück; Fakultät Agrarwissenschaften und Landschaftsarchitektur\, Bodenkunde – „Gemeinsam Resiliente Agrarsysteme entwickeln im Innovations-vorhaben GROWTH“\nLukas Brunotte\,  LWB Brunotte\, Adenstedt – „Digitalisierung mit Bodenhaftung“\nElron Wiedermann\, Thünen Institut für Agrarklimaschutz – „Künstliche Poren trotz Bodenverdichtung tief verwurzelt unter trockenen Bedingungen“\nPhilipp Rüther\, Fachhochschule Südwestfalen\, Soest – „Vorstellung EU Projekt TRAILS4SOIL-Wiederherstellung der Bodengesundheit durch RegCA“\n\nWie auch in den letzten Jahren ist es geplant\, die Vorträge der Veranstaltung unseren Mitgliedern exklusiv als Livevideos zum Abruf bereitzustellen. Hierfür folgen Sie uns dann wieder auf unsere spezielle Mitgliederseite. \nDie Vorträge der Jahrestagung 2025 sind unter dem folgenden LINK für unsere Mitglieder exklusiv abrufbar. Wir freuen uns auf Sie und über die interessanten Themen auf unserer Tagung. \n\n\nProgramm der JahrestagungProgramm\nTagesordnung der MitgliederversammlungTagesordnung\n\n\nAnmeldungMitgliederversammlung 2026 \nWir bitten um Anmeldung ausschließlich online. Dies können Sie bis zum 16. Februar 2026 unter dem folgendem Link \n\n\n  \n\n\n\nVorname (Pflichtfeld)\n\n \nNachname (Pflichtfeld)\n\n \nInstitution/Betrieb (Pflichtfeld)\n\n \nStraße (Pflichtfeld)\n\n \nPLZ (Pflichtfeld)\n\n \nOrt (Pflichtfeld)\n\n \nIhre E-Mail-Adresse (Pflichtfeld)\n\n \nIch nehme an der Veranstaltung präsent oder online teil (Pflichtfeld)\nPräsenzteilnahmeOnlineteilnahme\n \nIhre Nachricht an uns\n\n \nFür den Versand und die Bearbeitung Ihrer Anfrage müssen Sie Ihr Einverständnis zur Speicherung Ihrer Daten geben. Ihre Daten werden ausschließlich zum Zwecke der Kontaktaufnahme gespeichert und durch uns vertraulich behandelt. Weitere Informationen zu unserem Datenschutz und andere Kontaktmöglichkeiten finden Sie in unserem Impressum.\n \nBitte stimmen Sie zu.\n \n\n Δ \n\n\n\nHaben Sie schon eines der interessanten Videos aus der VLOG-Reihe des Arbeitskreis NRW mit Felix Wierling und Florian Röttger gesehen. Diese und viele weitere Videos finden Sie auf dem GKB YouTube Kanal oder auf unserer Mediathek-Seite. \nHaben wir Ihr Interesse geweckt ?Zum YouTube Kanal
URL:https://www.gkb-ev.de/event/26-02-2026-jahrestagung-und-mitgliederversammlung-2026/
END:VEVENT
END:VCALENDAR