BEGIN:VCALENDAR
VERSION:2.0
PRODID:-//GKB - Gesellschaft für konservierende Bodenbearbeitung - ECPv6.15.20//NONSGML v1.0//EN
CALSCALE:GREGORIAN
METHOD:PUBLISH
X-ORIGINAL-URL:https://www.gkb-ev.de
X-WR-CALDESC:Veranstaltungen für GKB - Gesellschaft für konservierende Bodenbearbeitung
REFRESH-INTERVAL;VALUE=DURATION:PT1H
X-Robots-Tag:noindex
X-PUBLISHED-TTL:PT1H
BEGIN:VTIMEZONE
TZID:Europe/Berlin
BEGIN:DAYLIGHT
TZOFFSETFROM:+0100
TZOFFSETTO:+0200
TZNAME:CEST
DTSTART:20250330T010000
END:DAYLIGHT
BEGIN:STANDARD
TZOFFSETFROM:+0200
TZOFFSETTO:+0100
TZNAME:CET
DTSTART:20251026T010000
END:STANDARD
BEGIN:DAYLIGHT
TZOFFSETFROM:+0100
TZOFFSETTO:+0200
TZNAME:CEST
DTSTART:20260329T010000
END:DAYLIGHT
BEGIN:STANDARD
TZOFFSETFROM:+0200
TZOFFSETTO:+0100
TZNAME:CET
DTSTART:20261025T010000
END:STANDARD
BEGIN:DAYLIGHT
TZOFFSETFROM:+0100
TZOFFSETTO:+0200
TZNAME:CEST
DTSTART:20270328T010000
END:DAYLIGHT
BEGIN:STANDARD
TZOFFSETFROM:+0200
TZOFFSETTO:+0100
TZNAME:CET
DTSTART:20271031T010000
END:STANDARD
END:VTIMEZONE
BEGIN:VEVENT
DTSTART;TZID=Europe/Berlin:20260129T090000
DTEND;TZID=Europe/Berlin:20260129T130000
DTSTAMP:20260422T181016
CREATED:20260115T112644Z
LAST-MODIFIED:20260115T112644Z
UID:12926-1769677200-1769691600@www.gkb-ev.de
SUMMARY:29.01.2026 - Mitgliederversammlung der KBD e.V. in Rosswein
DESCRIPTION:Am 29. Januar 2026 lädt der Verein Konservierende Bodenbearbeitung/Direktsaat in Sachsen (KBD) e.V. nach Rosswein zur KBD Feldtag 2022 \nMitgliederversammlung und Vortragsveranstaltung Rosswein\nin den Landgasthof „Zur Margarethenmühle“\, Naußlitz 24 in 04741 Roßwein ein. Das Thema der Veranstaltung lautet \nBodenbiologie als Schlüssel zur Direktsaat\nMinimale Bodenstörung\, permanente Bodenbedeckung\, stetige aktive Durchwurzelung und eine hohe Bodendiversität sind wichtige Bestandteile zur\nerfolgreichen Umsetzung der konservierenden Landwirtschaft (Conservation Agriculture). Die Anwendung der Direktsaat erfüllt nahezu alle der Eckpunkte des Systems. Doch dauerhafte Direktsaat erfordert einen hohen Grad an Wissen und Erfahrung. \nVorträge\n\nMark Dümichen\, Landwirtschaftsbetrieb Dümichen\, Niederer Fläming – „Wie wichtig ist die Bodenbiologie im Boden und wie kann ich sie\nankurbeln?“\n\nHerr Mark Dümmichen ist ein erfahrener Pionier auf dem Gebiet und gibt interessante Einblicke in die Umsetzung der Direktsaat in seinem Betrieb. Er vermittelt dabei fortschrittliche Ansätze im Pflanzenbau und lädt zur gemeinsamen Diskussion ein. \nZum Workshop sind ausschließlich Mitglieder des Vereins Konservierende Bodenbearbeitung/Direktsaat in Sachsen (KBD) e.V. sowie Mitglieder des Dachverbandes\, der Gesellschaft für konservierende Bodenbearbeitung (GKB) e.V. (GKB) eingeladen. \n Zum Programm\n\nTermin und Ort\nAm 29. Januar 2026 in der Zeit von 09.00 Uhr bis 13.00  Uhr – Landgasthof „Zur Margarethenmühle“\, Naußlitz 24 in 04741 Roßwein \nAnmeldung\nAufgrund der begrenzten Platzkapazitäten soll eine vorherige Anmeldung bis spätestens 27.01.2026 um unter der Rufnummer 03725 / 37 13 69 oder per Mail unter glaeser.heiko@kbd-sachsen.de erfolgen. \n\nEinen Überblick über die Veranstaltungen im Jahr 2025 finden Sie hier \nVeranstaltungenVeranstaltungen im Jahr 2025 \nVeranstaltungen\n\nBei Interesse an einer Mitgliedschaft in der Gesellschaft für konservierende Bodenbearbeitung (GKB) e.V. klicken Sie auf das nachfolgende Banner \nInteresseBeantragen Sie noch heute die Aufnahme in die GKB \nMitgliedschaft
URL:https://www.gkb-ev.de/event/29-01-2026-mitgliederversammlung-der-kbd-e-v-in-rosswein/
END:VEVENT
END:VCALENDAR